BEGIN:VCALENDAR
VERSION:2.0
PRODID:-//Shri Nanda Devi Mandir - ECPv6.15.15//NONSGML v1.0//EN
CALSCALE:GREGORIAN
METHOD:PUBLISH
X-ORIGINAL-URL:https://www.shrinandadevimandir.nl
X-WR-CALDESC:Evenementen voor Shri Nanda Devi Mandir
REFRESH-INTERVAL;VALUE=DURATION:PT1H
X-Robots-Tag:noindex
X-PUBLISHED-TTL:PT1H
BEGIN:VTIMEZONE
TZID:Europe/Amsterdam
BEGIN:DAYLIGHT
TZOFFSETFROM:+0100
TZOFFSETTO:+0200
TZNAME:CEST
DTSTART:20230326T010000
END:DAYLIGHT
BEGIN:STANDARD
TZOFFSETFROM:+0200
TZOFFSETTO:+0100
TZNAME:CET
DTSTART:20231029T010000
END:STANDARD
BEGIN:DAYLIGHT
TZOFFSETFROM:+0100
TZOFFSETTO:+0200
TZNAME:CEST
DTSTART:20240331T010000
END:DAYLIGHT
BEGIN:STANDARD
TZOFFSETFROM:+0200
TZOFFSETTO:+0100
TZNAME:CET
DTSTART:20241027T010000
END:STANDARD
BEGIN:DAYLIGHT
TZOFFSETFROM:+0100
TZOFFSETTO:+0200
TZNAME:CEST
DTSTART:20250330T010000
END:DAYLIGHT
BEGIN:STANDARD
TZOFFSETFROM:+0200
TZOFFSETTO:+0100
TZNAME:CET
DTSTART:20251026T010000
END:STANDARD
END:VTIMEZONE
BEGIN:VEVENT
DTSTART;TZID=Europe/Amsterdam:20241003T190000
DTEND;TZID=Europe/Amsterdam:20241003T210000
DTSTAMP:20260422T141403
CREATED:20240821T194946Z
LAST-MODIFIED:20240821T194946Z
UID:922-1727982000-1727989200@www.shrinandadevimandir.nl
SUMMARY:Navratri | Mata Shailputri | 1e Dag | Oktober 2024
DESCRIPTION:
URL:https://www.shrinandadevimandir.nl/event/navratri-mata-shailputri-1e-dag-oktober-2024/
LOCATION:Shri Nanda Devi Mandir\, Philips de Goedestraat 151\, Vlaardingen\, Zuid-Holland\, 3132XT\, Nederland
CATEGORIES:Navratri oktober 2024
END:VEVENT
BEGIN:VEVENT
DTSTART;TZID=Europe/Amsterdam:20241004T190000
DTEND;TZID=Europe/Amsterdam:20241004T210000
DTSTAMP:20260422T141403
CREATED:20240821T195108Z
LAST-MODIFIED:20240821T195108Z
UID:924-1728068400-1728075600@www.shrinandadevimandir.nl
SUMMARY:Navratri | Mata Brahmacharini | 2e Dag | Oktober 2024
DESCRIPTION:
URL:https://www.shrinandadevimandir.nl/event/navratri-mata-brahmacharini-2e-dag-oktober-2024/
LOCATION:Shri Nanda Devi Mandir\, Philips de Goedestraat 151\, Vlaardingen\, Zuid-Holland\, 3132XT\, Nederland
END:VEVENT
BEGIN:VEVENT
DTSTART;TZID=Europe/Amsterdam:20241005T190000
DTEND;TZID=Europe/Amsterdam:20241005T210000
DTSTAMP:20260422T141403
CREATED:20240821T195338Z
LAST-MODIFIED:20240821T195338Z
UID:926-1728154800-1728162000@www.shrinandadevimandir.nl
SUMMARY:Navratri | Mata Chandraghanta | 3e Dag | Oktober 2024
DESCRIPTION:
URL:https://www.shrinandadevimandir.nl/event/navratri-mata-chandraghanta-3e-dag-oktober-2024/
LOCATION:Shri Nanda Devi Mandir\, Philips de Goedestraat 151\, Vlaardingen\, Zuid-Holland\, 3132XT\, Nederland
END:VEVENT
BEGIN:VEVENT
DTSTART;TZID=Europe/Amsterdam:20241006T190000
DTEND;TZID=Europe/Amsterdam:20241006T210000
DTSTAMP:20260422T141403
CREATED:20240821T195847Z
LAST-MODIFIED:20240821T195847Z
UID:929-1728241200-1728248400@www.shrinandadevimandir.nl
SUMMARY:Navratri | Mata Kushmanda | 4e Dag | Oktober 2024
DESCRIPTION:
URL:https://www.shrinandadevimandir.nl/event/navratri-mata-kushmanda-4e-dag-oktober-2024/
LOCATION:Shri Nanda Devi Mandir\, Philips de Goedestraat 151\, Vlaardingen\, Zuid-Holland\, 3132XT\, Nederland
CATEGORIES:Navratri oktober 2024
END:VEVENT
BEGIN:VEVENT
DTSTART;TZID=Europe/Amsterdam:20241007T190000
DTEND;TZID=Europe/Amsterdam:20241007T210000
DTSTAMP:20260422T141403
CREATED:20240821T200013Z
LAST-MODIFIED:20240821T200013Z
UID:931-1728327600-1728334800@www.shrinandadevimandir.nl
SUMMARY:Navratri | Mata Skandmata | 5e Dag | Oktober 2024
DESCRIPTION:
URL:https://www.shrinandadevimandir.nl/event/navratri-mata-skandmata-5e-dag-oktober-2024/
LOCATION:Shri Nanda Devi Mandir\, Philips de Goedestraat 151\, Vlaardingen\, Zuid-Holland\, 3132XT\, Nederland
CATEGORIES:Navratri oktober 2024
END:VEVENT
BEGIN:VEVENT
DTSTART;TZID=Europe/Amsterdam:20241008T190000
DTEND;TZID=Europe/Amsterdam:20241008T210000
DTSTAMP:20260422T141403
CREATED:20240821T200109Z
LAST-MODIFIED:20240821T200109Z
UID:933-1728414000-1728421200@www.shrinandadevimandir.nl
SUMMARY:Navratri | Mata Katyayani | 6e Dag | Oktober 2024
DESCRIPTION:
URL:https://www.shrinandadevimandir.nl/event/navratri-mata-katyayani-6e-dag-oktober-2024/
LOCATION:Shri Nanda Devi Mandir\, Philips de Goedestraat 151\, Vlaardingen\, Zuid-Holland\, 3132XT\, Nederland
CATEGORIES:Navratri oktober 2024
END:VEVENT
BEGIN:VEVENT
DTSTART;TZID=Europe/Amsterdam:20241009T190000
DTEND;TZID=Europe/Amsterdam:20241009T210000
DTSTAMP:20260422T141403
CREATED:20240821T201809Z
LAST-MODIFIED:20240821T201809Z
UID:951-1728500400-1728507600@www.shrinandadevimandir.nl
SUMMARY:Navratri | Mata Kalaratri | 7e Dag | Oktober 2024
DESCRIPTION:
URL:https://www.shrinandadevimandir.nl/event/navratri-mata-kalaratri-7e-dag-oktober-2024-2/
LOCATION:Shri Nanda Devi Mandir\, Philips de Goedestraat 151\, Vlaardingen\, Zuid-Holland\, 3132XT\, Nederland
CATEGORIES:Navratri oktober 2024
END:VEVENT
BEGIN:VEVENT
DTSTART;TZID=Europe/Amsterdam:20241010T190000
DTEND;TZID=Europe/Amsterdam:20241010T210000
DTSTAMP:20260422T141403
CREATED:20240821T200420Z
LAST-MODIFIED:20240821T200420Z
UID:938-1728586800-1728594000@www.shrinandadevimandir.nl
SUMMARY:Navratri | Mata Mahagauri | 8e Dag | Oktober 2024
DESCRIPTION:
URL:https://www.shrinandadevimandir.nl/event/navratri-mata-mahagauri-8e-dag-oktober-2024/
LOCATION:Shri Nanda Devi Mandir\, Philips de Goedestraat 151\, Vlaardingen\, Zuid-Holland\, 3132XT\, Nederland
CATEGORIES:Navratri oktober 2024
END:VEVENT
BEGIN:VEVENT
DTSTART;TZID=Europe/Amsterdam:20241011T190000
DTEND;TZID=Europe/Amsterdam:20241011T210000
DTSTAMP:20260422T141403
CREATED:20240821T200552Z
LAST-MODIFIED:20240821T200552Z
UID:941-1728673200-1728680400@www.shrinandadevimandir.nl
SUMMARY:Navratri | Mata Siddhidhatri | 9e Dag | Oktober 2024
DESCRIPTION:
URL:https://www.shrinandadevimandir.nl/event/navratri-mata-siddhidhatri-9e-dag-oktober-2024/
LOCATION:Shri Nanda Devi Mandir\, Philips de Goedestraat 151\, Vlaardingen\, Zuid-Holland\, 3132XT\, Nederland
CATEGORIES:Navratri oktober 2024
END:VEVENT
BEGIN:VEVENT
DTSTART;TZID=Europe/Amsterdam:20241012T190000
DTEND;TZID=Europe/Amsterdam:20241012T210000
DTSTAMP:20260422T141403
CREATED:20240821T200657Z
LAST-MODIFIED:20240821T200657Z
UID:944-1728759600-1728766800@www.shrinandadevimandir.nl
SUMMARY:Navratri | Purnahoti | 10e Dag / Ram Navami | Oktober 2024
DESCRIPTION:
URL:https://www.shrinandadevimandir.nl/event/navratri-purnahoti-10e-dag-ram-navami-oktober-2024/
LOCATION:Shri Nanda Devi Mandir\, Philips de Goedestraat 151\, Vlaardingen\, Zuid-Holland\, 3132XT\, Nederland
CATEGORIES:Navratri oktober 2024
END:VEVENT
BEGIN:VEVENT
DTSTART;TZID=Europe/Amsterdam:20241024T110000
DTEND;TZID=Europe/Amsterdam:20241028T210000
DTSTAMP:20260422T141403
CREATED:20240821T201257Z
LAST-MODIFIED:20240821T201548Z
UID:946-1729767600-1730149200@www.shrinandadevimandir.nl
SUMMARY:Sita Ram Yagya - 5 daagse Yagya
DESCRIPTION:
URL:https://www.shrinandadevimandir.nl/event/sita-ram-yagya-5-daagse-yagya/
LOCATION:Shri Nanda Devi Mandir\, Philips de Goedestraat 151\, Vlaardingen\, Zuid-Holland\, 3132XT\, Nederland
END:VEVENT
BEGIN:VEVENT
DTSTART;TZID=Europe/Amsterdam:20241031T190000
DTEND;TZID=Europe/Amsterdam:20241031T210000
DTSTAMP:20260422T141403
CREATED:20240821T201435Z
LAST-MODIFIED:20240821T201435Z
UID:948-1730401200-1730408400@www.shrinandadevimandir.nl
SUMMARY:Divali - 2024
DESCRIPTION:
URL:https://www.shrinandadevimandir.nl/event/divali-2024/
LOCATION:Shri Nanda Devi Mandir\, Philips de Goedestraat 151\, Vlaardingen\, Zuid-Holland\, 3132XT\, Nederland
CATEGORIES:Festiviteiten 2024
END:VEVENT
END:VCALENDAR