BEGIN:VCALENDAR
VERSION:2.0
PRODID:-//Shri Nanda Devi Mandir - ECPv6.15.15//NONSGML v1.0//EN
CALSCALE:GREGORIAN
METHOD:PUBLISH
X-WR-CALNAME:Shri Nanda Devi Mandir
X-ORIGINAL-URL:https://www.shrinandadevimandir.nl
X-WR-CALDESC:Evenementen voor Shri Nanda Devi Mandir
REFRESH-INTERVAL;VALUE=DURATION:PT1H
X-Robots-Tag:noindex
X-PUBLISHED-TTL:PT1H
BEGIN:VTIMEZONE
TZID:Europe/Amsterdam
BEGIN:DAYLIGHT
TZOFFSETFROM:+0100
TZOFFSETTO:+0200
TZNAME:CEST
DTSTART:20230326T010000
END:DAYLIGHT
BEGIN:STANDARD
TZOFFSETFROM:+0200
TZOFFSETTO:+0100
TZNAME:CET
DTSTART:20231029T010000
END:STANDARD
BEGIN:DAYLIGHT
TZOFFSETFROM:+0100
TZOFFSETTO:+0200
TZNAME:CEST
DTSTART:20240331T010000
END:DAYLIGHT
BEGIN:STANDARD
TZOFFSETFROM:+0200
TZOFFSETTO:+0100
TZNAME:CET
DTSTART:20241027T010000
END:STANDARD
BEGIN:DAYLIGHT
TZOFFSETFROM:+0100
TZOFFSETTO:+0200
TZNAME:CEST
DTSTART:20250330T010000
END:DAYLIGHT
BEGIN:STANDARD
TZOFFSETFROM:+0200
TZOFFSETTO:+0100
TZNAME:CET
DTSTART:20251026T010000
END:STANDARD
END:VTIMEZONE
BEGIN:VEVENT
DTSTART;VALUE=DATE:20240601
DTEND;VALUE=DATE:20240604
DTSTAMP:20260422T200453
CREATED:20240323T212610Z
LAST-MODIFIED:20240323T212610Z
UID:845-1717200000-1717459199@www.shrinandadevimandir.nl
SUMMARY:Ram Lalla Yagya
DESCRIPTION:
URL:https://www.shrinandadevimandir.nl/event/ram-lalla-yagya/
LOCATION:Shri Nanda Devi Mandir\, Philips de Goedestraat 151\, Vlaardingen\, Zuid-Holland\, 3132XT\, Nederland
CATEGORIES:Ram Lalla Yagya
END:VEVENT
BEGIN:VEVENT
DTSTART;TZID=Europe/Amsterdam:20240606T150000
DTEND;TZID=Europe/Amsterdam:20240606T210000
DTSTAMP:20260422T200453
CREATED:20240323T212858Z
LAST-MODIFIED:20240323T212858Z
UID:847-1717686000-1717707600@www.shrinandadevimandir.nl
SUMMARY:Shani Jayantie | 2024
DESCRIPTION:
URL:https://www.shrinandadevimandir.nl/event/shani-jayantie-2024/
LOCATION:Shri Nanda Devi Mandir\, Philips de Goedestraat 151\, Vlaardingen\, Zuid-Holland\, 3132XT\, Nederland
CATEGORIES:Festiviteiten 2024
END:VEVENT
END:VCALENDAR