BEGIN:VCALENDAR
VERSION:2.0
PRODID:-//Shri Nanda Devi Mandir - ECPv6.15.15//NONSGML v1.0//EN
CALSCALE:GREGORIAN
METHOD:PUBLISH
X-WR-CALNAME:Shri Nanda Devi Mandir
X-ORIGINAL-URL:https://www.shrinandadevimandir.nl
X-WR-CALDESC:Evenementen voor Shri Nanda Devi Mandir
REFRESH-INTERVAL;VALUE=DURATION:PT1H
X-Robots-Tag:noindex
X-PUBLISHED-TTL:PT1H
BEGIN:VTIMEZONE
TZID:Europe/Amsterdam
BEGIN:DAYLIGHT
TZOFFSETFROM:+0100
TZOFFSETTO:+0200
TZNAME:CEST
DTSTART:20230326T010000
END:DAYLIGHT
BEGIN:STANDARD
TZOFFSETFROM:+0200
TZOFFSETTO:+0100
TZNAME:CET
DTSTART:20231029T010000
END:STANDARD
BEGIN:DAYLIGHT
TZOFFSETFROM:+0100
TZOFFSETTO:+0200
TZNAME:CEST
DTSTART:20240331T010000
END:DAYLIGHT
BEGIN:STANDARD
TZOFFSETFROM:+0200
TZOFFSETTO:+0100
TZNAME:CET
DTSTART:20241027T010000
END:STANDARD
BEGIN:DAYLIGHT
TZOFFSETFROM:+0100
TZOFFSETTO:+0200
TZNAME:CEST
DTSTART:20250330T010000
END:DAYLIGHT
BEGIN:STANDARD
TZOFFSETFROM:+0200
TZOFFSETTO:+0100
TZNAME:CET
DTSTART:20251026T010000
END:STANDARD
END:VTIMEZONE
BEGIN:VEVENT
DTSTART;TZID=Europe/Amsterdam:20240409T190000
DTEND;TZID=Europe/Amsterdam:20240409T210000
DTSTAMP:20260422T225307
CREATED:20240310T180222Z
LAST-MODIFIED:20240310T203607Z
UID:510-1712689200-1712696400@www.shrinandadevimandir.nl
SUMMARY:Navratri | Mata Shailaputri | 1e Dag
DESCRIPTION:
URL:https://www.shrinandadevimandir.nl/event/navratri-1e-dag/
LOCATION:Shri Nanda Devi Mandir\, Philips de Goedestraat 151\, Vlaardingen\, Zuid-Holland\, 3132XT\, Nederland
CATEGORIES:Navratri maart 2024
END:VEVENT
BEGIN:VEVENT
DTSTART;TZID=Europe/Amsterdam:20240410T190000
DTEND;TZID=Europe/Amsterdam:20240410T210000
DTSTAMP:20260422T225307
CREATED:20240310T201932Z
LAST-MODIFIED:20240310T203415Z
UID:567-1712775600-1712782800@www.shrinandadevimandir.nl
SUMMARY:Navratri | Mata Brahmacharini | 2e Dag
DESCRIPTION:
URL:https://www.shrinandadevimandir.nl/event/navratri-brahmacharini-2e-dag/
LOCATION:Shri Nanda Devi Mandir\, Philips de Goedestraat 151\, Vlaardingen\, Zuid-Holland\, 3132XT\, Nederland
CATEGORIES:Navratri maart 2024
END:VEVENT
BEGIN:VEVENT
DTSTART;TZID=Europe/Amsterdam:20240411T190000
DTEND;TZID=Europe/Amsterdam:20240411T210000
DTSTAMP:20260422T225307
CREATED:20240310T203359Z
LAST-MODIFIED:20240310T203359Z
UID:576-1712862000-1712869200@www.shrinandadevimandir.nl
SUMMARY:Navratri | Mata Chandraghanta | Dag 3
DESCRIPTION:
URL:https://www.shrinandadevimandir.nl/event/navratri-mata-chandraghanta-dag-3/
LOCATION:Shri Nanda Devi Mandir\, Philips de Goedestraat 151\, Vlaardingen\, Zuid-Holland\, 3132XT\, Nederland
CATEGORIES:Navratri maart 2024
END:VEVENT
BEGIN:VEVENT
DTSTART;TZID=Europe/Amsterdam:20240412T190000
DTEND;TZID=Europe/Amsterdam:20240412T210000
DTSTAMP:20260422T225307
CREATED:20240310T203529Z
LAST-MODIFIED:20240310T203628Z
UID:579-1712948400-1712955600@www.shrinandadevimandir.nl
SUMMARY:Navratri | Mata Kushmanda | 4e Dag
DESCRIPTION:
URL:https://www.shrinandadevimandir.nl/event/navratri-mata-kushmanda-4e-dag/
LOCATION:Shri Nanda Devi Mandir\, Philips de Goedestraat 151\, Vlaardingen\, Zuid-Holland\, 3132XT\, Nederland
CATEGORIES:Navratri maart 2024
END:VEVENT
BEGIN:VEVENT
DTSTART;TZID=Europe/Amsterdam:20240413T190000
DTEND;TZID=Europe/Amsterdam:20240413T210000
DTSTAMP:20260422T225307
CREATED:20240310T203959Z
LAST-MODIFIED:20240310T203959Z
UID:582-1713034800-1713042000@www.shrinandadevimandir.nl
SUMMARY:Navratri | Mata Skandamata | 5e Dag
DESCRIPTION:
URL:https://www.shrinandadevimandir.nl/event/navratri-mata-skandamata-5e-dag/
LOCATION:Shri Nanda Devi Mandir\, Philips de Goedestraat 151\, Vlaardingen\, Zuid-Holland\, 3132XT\, Nederland
CATEGORIES:Navratri maart 2024
END:VEVENT
BEGIN:VEVENT
DTSTART;TZID=Europe/Amsterdam:20240414T190000
DTEND;TZID=Europe/Amsterdam:20240414T210000
DTSTAMP:20260422T225307
CREATED:20240310T204137Z
LAST-MODIFIED:20240310T204137Z
UID:584-1713121200-1713128400@www.shrinandadevimandir.nl
SUMMARY:Navratri | Mata Katyayani | 6e Dag
DESCRIPTION:
URL:https://www.shrinandadevimandir.nl/event/navratri-mata-katyayani-6e-dag/
LOCATION:Shri Nanda Devi Mandir\, Philips de Goedestraat 151\, Vlaardingen\, Zuid-Holland\, 3132XT\, Nederland
CATEGORIES:Navratri maart 2024
END:VEVENT
BEGIN:VEVENT
DTSTART;TZID=Europe/Amsterdam:20240415T190000
DTEND;TZID=Europe/Amsterdam:20240415T210000
DTSTAMP:20260422T225307
CREATED:20240310T204434Z
LAST-MODIFIED:20240310T204434Z
UID:587-1713207600-1713214800@www.shrinandadevimandir.nl
SUMMARY:Navratri | Mata Kalaratri | 7e Dag
DESCRIPTION:
URL:https://www.shrinandadevimandir.nl/event/navratri-mata-kalaratri-7e-dag/
LOCATION:Shri Nanda Devi Mandir\, Philips de Goedestraat 151\, Vlaardingen\, Zuid-Holland\, 3132XT\, Nederland
CATEGORIES:Navratri maart 2024
END:VEVENT
BEGIN:VEVENT
DTSTART;TZID=Europe/Amsterdam:20240416T190000
DTEND;TZID=Europe/Amsterdam:20240416T210000
DTSTAMP:20260422T225307
CREATED:20240310T204626Z
LAST-MODIFIED:20240310T204626Z
UID:589-1713294000-1713301200@www.shrinandadevimandir.nl
SUMMARY:Navratri | Mata Mahagauri | 8e Dag
DESCRIPTION:
URL:https://www.shrinandadevimandir.nl/event/navratri-mata-mahagauri-8e-dag/
LOCATION:Shri Nanda Devi Mandir\, Philips de Goedestraat 151\, Vlaardingen\, Zuid-Holland\, 3132XT\, Nederland
CATEGORIES:Navratri maart 2024
END:VEVENT
BEGIN:VEVENT
DTSTART;TZID=Europe/Amsterdam:20240417T190000
DTEND;TZID=Europe/Amsterdam:20240417T210000
DTSTAMP:20260422T225307
CREATED:20240310T204924Z
LAST-MODIFIED:20240310T204924Z
UID:591-1713380400-1713387600@www.shrinandadevimandir.nl
SUMMARY:Navratri | Mata Siddhidhatri | 9e Dag / Ram Navami
DESCRIPTION:
URL:https://www.shrinandadevimandir.nl/event/navratri-mata-siddhidhatri-9e-dag-ram-navami/
LOCATION:Shri Nanda Devi Mandir\, Philips de Goedestraat 151\, Vlaardingen\, Zuid-Holland\, 3132XT\, Nederland
CATEGORIES:Navratri maart 2024
END:VEVENT
BEGIN:VEVENT
DTSTART;TZID=Europe/Amsterdam:20240423T100000
DTEND;TZID=Europe/Amsterdam:20240423T220000
DTSTAMP:20260422T225307
CREATED:20240323T133447Z
LAST-MODIFIED:20240323T133447Z
UID:841-1713866400-1713909600@www.shrinandadevimandir.nl
SUMMARY:Hanuman Jayanti | 2024
DESCRIPTION:
URL:https://www.shrinandadevimandir.nl/event/hanuman-jayanti-2024/
LOCATION:Shri Nanda Devi Mandir\, Philips de Goedestraat 151\, Vlaardingen\, Zuid-Holland\, 3132XT\, Nederland
CATEGORIES:Festiviteiten 2024
END:VEVENT
END:VCALENDAR