BEGIN:VCALENDAR
VERSION:2.0
PRODID:-//Shri Nanda Devi Mandir - ECPv6.15.15//NONSGML v1.0//EN
CALSCALE:GREGORIAN
METHOD:PUBLISH
X-WR-CALNAME:Shri Nanda Devi Mandir
X-ORIGINAL-URL:https://www.shrinandadevimandir.nl
X-WR-CALDESC:Evenementen voor Shri Nanda Devi Mandir
REFRESH-INTERVAL;VALUE=DURATION:PT1H
X-Robots-Tag:noindex
X-PUBLISHED-TTL:PT1H
BEGIN:VTIMEZONE
TZID:Europe/Amsterdam
BEGIN:DAYLIGHT
TZOFFSETFROM:+0100
TZOFFSETTO:+0200
TZNAME:CEST
DTSTART:20230326T010000
END:DAYLIGHT
BEGIN:STANDARD
TZOFFSETFROM:+0200
TZOFFSETTO:+0100
TZNAME:CET
DTSTART:20231029T010000
END:STANDARD
BEGIN:DAYLIGHT
TZOFFSETFROM:+0100
TZOFFSETTO:+0200
TZNAME:CEST
DTSTART:20240331T010000
END:DAYLIGHT
BEGIN:STANDARD
TZOFFSETFROM:+0200
TZOFFSETTO:+0100
TZNAME:CET
DTSTART:20241027T010000
END:STANDARD
BEGIN:DAYLIGHT
TZOFFSETFROM:+0100
TZOFFSETTO:+0200
TZNAME:CEST
DTSTART:20250330T010000
END:DAYLIGHT
BEGIN:STANDARD
TZOFFSETFROM:+0200
TZOFFSETTO:+0100
TZNAME:CET
DTSTART:20251026T010000
END:STANDARD
END:VTIMEZONE
BEGIN:VEVENT
DTSTART;TZID=Europe/Amsterdam:20240307T190000
DTEND;TZID=Europe/Amsterdam:20240307T210000
DTSTAMP:20260423T001652
CREATED:20240310T214014Z
LAST-MODIFIED:20240310T214014Z
UID:618-1709838000-1709845200@www.shrinandadevimandir.nl
SUMMARY:Naag Panchami
DESCRIPTION:
URL:https://www.shrinandadevimandir.nl/event/naag-panchami/
LOCATION:Shri Nanda Devi Mandir\, Philips de Goedestraat 151\, Vlaardingen\, Zuid-Holland\, 3132XT\, Nederland
END:VEVENT
BEGIN:VEVENT
DTSTART;TZID=Europe/Amsterdam:20240308T170000
DTEND;TZID=Europe/Amsterdam:20240309T010000
DTSTAMP:20260423T001652
CREATED:20240310T213421Z
LAST-MODIFIED:20240310T213421Z
UID:613-1709917200-1709946000@www.shrinandadevimandir.nl
SUMMARY:Maha Shiv Ratri
DESCRIPTION:
URL:https://www.shrinandadevimandir.nl/event/maha-shiv-ratri/
LOCATION:Shri Nanda Devi Mandir\, Philips de Goedestraat 151\, Vlaardingen\, Zuid-Holland\, 3132XT\, Nederland
END:VEVENT
BEGIN:VEVENT
DTSTART;TZID=Europe/Amsterdam:20240325T180000
DTEND;TZID=Europe/Amsterdam:20240325T213000
DTSTAMP:20260423T001652
CREATED:20240323T133216Z
LAST-MODIFIED:20240323T133227Z
UID:839-1711389600-1711402200@www.shrinandadevimandir.nl
SUMMARY:Holi Phagwa | 2024
DESCRIPTION:
URL:https://www.shrinandadevimandir.nl/event/holi-phagwa-2024/
LOCATION:Shri Nanda Devi Mandir\, Philips de Goedestraat 151\, Vlaardingen\, Zuid-Holland\, 3132XT\, Nederland
CATEGORIES:Festiviteiten 2024
END:VEVENT
END:VCALENDAR