BEGIN:VCALENDAR
VERSION:2.0
PRODID:-//Shri Nanda Devi Mandir - ECPv6.15.15//NONSGML v1.0//EN
CALSCALE:GREGORIAN
METHOD:PUBLISH
X-ORIGINAL-URL:https://www.shrinandadevimandir.nl
X-WR-CALDESC:Evenementen voor Shri Nanda Devi Mandir
REFRESH-INTERVAL;VALUE=DURATION:PT1H
X-Robots-Tag:noindex
X-PUBLISHED-TTL:PT1H
BEGIN:VTIMEZONE
TZID:Europe/Amsterdam
BEGIN:DAYLIGHT
TZOFFSETFROM:+0100
TZOFFSETTO:+0200
TZNAME:CEST
DTSTART:20230326T010000
END:DAYLIGHT
BEGIN:STANDARD
TZOFFSETFROM:+0200
TZOFFSETTO:+0100
TZNAME:CET
DTSTART:20231029T010000
END:STANDARD
BEGIN:DAYLIGHT
TZOFFSETFROM:+0100
TZOFFSETTO:+0200
TZNAME:CEST
DTSTART:20240331T010000
END:DAYLIGHT
BEGIN:STANDARD
TZOFFSETFROM:+0200
TZOFFSETTO:+0100
TZNAME:CET
DTSTART:20241027T010000
END:STANDARD
BEGIN:DAYLIGHT
TZOFFSETFROM:+0100
TZOFFSETTO:+0200
TZNAME:CEST
DTSTART:20250330T010000
END:DAYLIGHT
BEGIN:STANDARD
TZOFFSETFROM:+0200
TZOFFSETTO:+0100
TZNAME:CET
DTSTART:20251026T010000
END:STANDARD
END:VTIMEZONE
BEGIN:VEVENT
DTSTART;TZID=Europe/Amsterdam:20240220T170000
DTEND;TZID=Europe/Amsterdam:20240220T210000
DTSTAMP:20260423T015406
CREATED:20240310T213737Z
LAST-MODIFIED:20240310T213823Z
UID:615-1708448400-1708462800@www.shrinandadevimandir.nl
SUMMARY:Shri Nanda Devi Mandir | 12-jarig Jubileum
DESCRIPTION:
URL:https://www.shrinandadevimandir.nl/event/shri-nanda-devi-mandir-12-jarig-jubileum/
LOCATION:Shri Nanda Devi Mandir\, Philips de Goedestraat 151\, Vlaardingen\, Zuid-Holland\, 3132XT\, Nederland
END:VEVENT
END:VCALENDAR